BEGIN:VCALENDAR
VERSION:2.0
PRODID:SchoolNow
CALSCALE:GREGORIAN
BEGIN:VEVENT
UID:343a238a-5777-11f0-8e03-0e8e356708a9
DTSTAMP:20250902T135446Z
SUMMARY:Special Board Meeting
URL;VALUE=URI:https://www.district148.net/calendar/8378542/ethics-meeting-c
 lone-clone-clone-clone
DTSTART:20250903T233000Z
DTEND:20250904T003000Z
END:VEVENT
END:VCALENDAR
