BEGIN:VCALENDAR
VERSION:2.0
PRODID:SchoolNow
CALSCALE:GREGORIAN
BEGIN:VEVENT
UID:10bf9a02-5777-11f0-a8d6-0a58a9feac02
DTSTAMP:20251007T153706Z
SUMMARY:'CANCELED' District Leadership Team Meeting
LOCATION:District Office
URL;VALUE=URI:https://www.district148.net/calendar/8378540/district-leaders
 hip-team-meeting-clone-clone-clone-clone
DTSTART:20251008T230000Z
DTEND:20251009T000000Z
END:VEVENT
END:VCALENDAR
