BEGIN:VCALENDAR
VERSION:2.0
PRODID:SchoolNow
CALSCALE:GREGORIAN
BEGIN:VEVENT
UID:eb111394-5776-11f0-afb2-0a58a9feac02
DTSTAMP:20250702T190111Z
SUMMARY:Board of Education Meeting
URL;VALUE=URI:https://www.district148.net/calendar/8378539/board-of-educati
 on-meeting-clone
DTSTART:20260624T000000Z
DTEND:20260624T020000Z
END:VEVENT
END:VCALENDAR
