BEGIN:VCALENDAR
VERSION:2.0
PRODID:SchoolNow
CALSCALE:GREGORIAN
BEGIN:VEVENT
UID:d734c3c0-5776-11f0-a629-0a58a9feac02
DTSTAMP:20250702T190037Z
SUMMARY:Board of Education Meeting
URL;VALUE=URI:https://www.district148.net/calendar/8378537/board-of-educati
 on-meeting-clone
DTSTART:20260527T000000Z
DTEND:20260527T020000Z
END:VEVENT
END:VCALENDAR
