BEGIN:VCALENDAR
VERSION:2.0
PRODID:SchoolNow
CALSCALE:GREGORIAN
BEGIN:VEVENT
UID:cff573c0-5776-11f0-8869-0efa27d97e01
DTSTAMP:20250702T190025Z
SUMMARY:Buildings & Grounds/Finance Meeting
URL;VALUE=URI:https://www.district148.net/calendar/8378536/buildings-ground
 s-finance-meeting-clone
DTSTART:20260526T230000Z
DTEND:20260527T000000Z
END:VEVENT
END:VCALENDAR
