BEGIN:VCALENDAR
VERSION:2.0
PRODID:SchoolNow
CALSCALE:GREGORIAN
BEGIN:VEVENT
UID:c63b9184-5776-11f0-afad-0a58a9feac02
DTSTAMP:20250702T190009Z
SUMMARY:Board of Education Meeting
URL;VALUE=URI:https://www.district148.net/calendar/8378535/board-of-educati
 on-meeting-clone
DTSTART:20260429T000000Z
DTEND:20260429T020000Z
END:VEVENT
END:VCALENDAR
