BEGIN:VCALENDAR
VERSION:2.0
PRODID:SchoolNow
CALSCALE:GREGORIAN
BEGIN:VEVENT
UID:7dab3ae6-5776-11f0-a2ad-0efa27d97e01
DTSTAMP:20260113T185949Z
SUMMARY:Buildings & Grounds/Finance Meeting
URL;VALUE=URI:https://www.district148.net/calendar/8378528/buildings-ground
 s-finance-meeting-clone
DTSTART:20260123T000000Z
DTEND:20260123T010000Z
END:VEVENT
END:VCALENDAR
