BEGIN:VCALENDAR
VERSION:2.0
PRODID:SchoolNow
CALSCALE:GREGORIAN
BEGIN:VEVENT
UID:67e894b0-5776-11f0-8e1a-0a58a9feac02
DTSTAMP:20250702T185730Z
SUMMARY:Buildings & Grounds/Finance Meeting
URL;VALUE=URI:https://www.district148.net/calendar/8378526/buildings-ground
 s-finance-meeting-clone
DTSTART:20251217T000000Z
DTEND:20251217T010000Z
END:VEVENT
END:VCALENDAR
