BEGIN:VCALENDAR
VERSION:2.0
PRODID:SchoolNow
CALSCALE:GREGORIAN
BEGIN:VEVENT
UID:55817490-5776-11f0-b961-0a58a9feac02
DTSTAMP:20250702T185700Z
SUMMARY:Buildings & Grounds/Finance Meeting
URL;VALUE=URI:https://www.district148.net/calendar/8378524/buildings-ground
 s-finance-meeting-clone
DTSTART:20251126T000000Z
DTEND:20251126T010000Z
END:VEVENT
END:VCALENDAR
