BEGIN:VCALENDAR
VERSION:2.0
PRODID:SchoolNow
CALSCALE:GREGORIAN
BEGIN:VEVENT
UID:4412a68e-5776-11f0-a97c-0a58a9feac02
DTSTAMP:20250702T185630Z
SUMMARY:Board of Education Meeting
URL;VALUE=URI:https://www.district148.net/calendar/8378523/board-of-educati
 on-meeting-clone
DTSTART:20251029T000000Z
DTEND:20251029T020000Z
END:VEVENT
END:VCALENDAR
