BEGIN:VCALENDAR
VERSION:2.0
PRODID:SchoolNow
CALSCALE:GREGORIAN
BEGIN:VEVENT
UID:faadebb6-5775-11f0-84b4-0e2994befe05
DTSTAMP:20250702T185427Z
SUMMARY:Board of Education Meeting
URL;VALUE=URI:https://www.district148.net/calendar/8378521/board-of-educati
 on-meeting-clone
DTSTART:20250924T000000Z
DTEND:20250924T020000Z
END:VEVENT
END:VCALENDAR
