BEGIN:VCALENDAR
VERSION:2.0
PRODID:SchoolNow
CALSCALE:GREGORIAN
BEGIN:VEVENT
UID:c2111616-5775-11f0-97e6-0a58a9feac02
DTSTAMP:20250702T185252Z
SUMMARY:Buildings & Grounds/Finance Meeting
URL;VALUE=URI:https://www.district148.net/calendar/8378520/buildings-ground
 s-finance-meeting-clone
DTSTART:20250923T230000Z
DTEND:20250924T000000Z
END:VEVENT
END:VCALENDAR
