BEGIN:VCALENDAR
VERSION:2.0
PRODID:SchoolNow
CALSCALE:GREGORIAN
BEGIN:VEVENT
UID:6aa92c24-5775-11f0-9f35-0a58a9feac02
DTSTAMP:20250702T185026Z
SUMMARY:Board of Education Meeting
URL;VALUE=URI:https://www.district148.net/calendar/8378517/board-of-educati
 on-meeting
DTSTART:20250827T000000Z
DTEND:20250827T020000Z
END:VEVENT
END:VCALENDAR
