BEGIN:VCALENDAR
VERSION:2.0
PRODID:SchoolNow
CALSCALE:GREGORIAN
BEGIN:VEVENT
UID:46bc2f28-5775-11f0-a443-0a58a9feac02
DTSTAMP:20250702T184925Z
SUMMARY:4th of July (Observed) - District Office Closed
URL;VALUE=URI:https://www.district148.net/calendar/8378516/4th-of-july-obse
 rved-district-office-closed
DTSTART;VALUE=DATE:20250703
DTEND;VALUE=DATE:20250704
END:VEVENT
END:VCALENDAR
