BEGIN:VCALENDAR
VERSION:2.0
PRODID:SchoolNow
CALSCALE:GREGORIAN
BEGIN:VEVENT
UID:92d81dd0-2508-11f0-8a7b-0237284ec1ff
DTSTAMP:20250429T144520Z
SUMMARY:Special Board of Education Meeting
URL;VALUE=URI:https://www.district148.net/calendar/8031794/special-board-of
 -education-meeting
DTSTART:20250429T220000Z
DTEND:20250429T230000Z
END:VEVENT
END:VCALENDAR
