BEGIN:VCALENDAR
VERSION:2.0
PRODID:SchoolNow
CALSCALE:GREGORIAN
BEGIN:VEVENT
UID:78c2f7a6-ac3d-11ef-9e6a-0a58a9feac02
DTSTAMP:20241126T212909Z
SUMMARY:Winter Concert - Advanced
LOCATION:Harriet Tubman School
URL;VALUE=URI:https://www.district148.net/calendar/7084039/winter-concert-a
 dvanced-clone
DTSTART:20241212T000000Z
DTEND:20241212T010000Z
END:VEVENT
END:VCALENDAR
