BEGIN:VCALENDAR
VERSION:2.0
PRODID:SchoolNow
CALSCALE:GREGORIAN
BEGIN:VEVENT
UID:647a21ac-ac3d-11ef-9af7-0a58a9feac02
DTSTAMP:20241126T212835Z
SUMMARY:Winter Concert - Beginners
LOCATION:Harriet Tubman School
URL;VALUE=URI:https://www.district148.net/calendar/7084038/winter-concert-b
 eginners-clone
DTSTART:20241211T000000Z
DTEND:20241211T010000Z
END:VEVENT
END:VCALENDAR
