BEGIN:VCALENDAR
VERSION:2.0
PRODID:SchoolNow
CALSCALE:GREGORIAN
BEGIN:VEVENT
UID:48325a6e-ac3d-11ef-92e1-0affcc57df99
DTSTAMP:20241126T212747Z
SUMMARY:Lincoln Science Fair Awards Ceremony
LOCATION:Lincoln Junior High
URL;VALUE=URI:https://www.district148.net/calendar/7084037/lincoln-science-
 fair-awards-ceremony
DTSTART:20241213T000000Z
DTEND:20241213T010000Z
END:VEVENT
END:VCALENDAR
