BEGIN:VCALENDAR
VERSION:2.0
PRODID:SchoolNow
CALSCALE:GREGORIAN
BEGIN:VEVENT
UID:3367576a-ac3d-11ef-84b4-028de2c73b61
DTSTAMP:20241126T212712Z
SUMMARY:Lincoln Science Fair Presentations
LOCATION:Lincoln Junior High
URL;VALUE=URI:https://www.district148.net/calendar/7084036/lincoln-science-
 fair-presentations
DTSTART:20241212T213000Z
DTEND:20241212T230000Z
END:VEVENT
END:VCALENDAR
