BEGIN:VCALENDAR
VERSION:2.0
PRODID:SchoolNow
CALSCALE:GREGORIAN
BEGIN:VEVENT
UID:01d37260-ac3d-11ef-8a88-0a58a9feac02
DTSTAMP:20241126T212549Z
SUMMARY:Washington Science Fair Awards Ceremony
LOCATION:Washington Junior High
URL;VALUE=URI:https://www.district148.net/calendar/7084035/washington-scien
 ce-fair-awards-ceremony
DTSTART:20241211T233000Z
DTEND:20241212T003000Z
END:VEVENT
END:VCALENDAR
