BEGIN:VCALENDAR
VERSION:2.0
PRODID:SchoolNow
CALSCALE:GREGORIAN
BEGIN:VEVENT
UID:e712273c-ac3c-11ef-b16e-0afff65f7ef1
DTSTAMP:20241126T212603Z
SUMMARY:Washington Science Fair Presentations
LOCATION:Washington Junior High
URL;VALUE=URI:https://www.district148.net/calendar/7084034/washington-scien
 ce-fair-presentations
DTSTART:20241211T210000Z
DTEND:20241211T223000Z
END:VEVENT
END:VCALENDAR
