BEGIN:VCALENDAR
VERSION:2.0
PRODID:SchoolNow
CALSCALE:GREGORIAN
BEGIN:VEVENT
UID:c1d504c6-ac3c-11ef-a7c9-0afff65f7ef1
DTSTAMP:20241126T212402Z
SUMMARY:Roosevelt Science Fair Award Ceremony
LOCATION:Roosevelt Junior High
URL;VALUE=URI:https://www.district148.net/calendar/7084033/roosevelt-scienc
 e-fair-award-ceremony
DTSTART:20241206T000000Z
DTEND:20241206T010000Z
END:VEVENT
END:VCALENDAR
