BEGIN:VCALENDAR
VERSION:2.0
PRODID:SchoolNow
CALSCALE:GREGORIAN
BEGIN:VEVENT
UID:a2f33a46-ac3c-11ef-a392-0a58a9feac02
DTSTAMP:20241126T212310Z
SUMMARY:Roosevelt Science Fair Presentations
LOCATION:Roosevelt Junior High
URL;VALUE=URI:https://www.district148.net/calendar/7084032/roosevelt-scienc
 e-fair-presentations
DTSTART:20241205T213000Z
DTEND:20241205T230000Z
END:VEVENT
END:VCALENDAR
