BEGIN:VCALENDAR
VERSION:2.0
PRODID:SchoolNow
CALSCALE:GREGORIAN
BEGIN:VEVENT
UID:96426f2a-ac3b-11ef-862f-0a58a9feac02
DTSTAMP:20241126T211539Z
SUMMARY:4th Grade Science Fair
URL;VALUE=URI:https://www.district148.net/calendar/7084031/4th-grade-scienc
 e-fair-clone
DTSTART;VALUE=DATE:20241204
DTEND;VALUE=DATE:20241205
END:VEVENT
END:VCALENDAR
