BEGIN:VCALENDAR
VERSION:2.0
PRODID:SchoolNow
CALSCALE:GREGORIAN
BEGIN:VEVENT
UID:3b1aa408-7c09-11ef-bca2-0affda0341ed
DTSTAMP:20240926T131415Z
SUMMARY:8th Grade Graduation
URL;VALUE=URI:https://www.district148.net/calendar/6694620/8th-grade-gradua
 tion
DTSTART;VALUE=DATE:20250522
DTEND;VALUE=DATE:20250523
END:VEVENT
END:VCALENDAR
