BEGIN:VCALENDAR
VERSION:2.0
PRODID:SchoolNow
CALSCALE:GREGORIAN
BEGIN:VEVENT
UID:cea04d8a-71dd-11ef-b492-0affdaaaea37
DTSTAMP:20240913T143934Z
SUMMARY:Trunk or Treat
URL;VALUE=URI:https://www.district148.net/calendar/6594613/trunk-or-treat
DTSTART:20241030T204500Z
DTEND:20241030T214500Z
END:VEVENT
END:VCALENDAR
