BEGIN:VCALENDAR
VERSION:2.0
PRODID:SchoolNow
CALSCALE:GREGORIAN
BEGIN:VEVENT
UID:676acd04-6afb-11ef-be43-0a58a9feac02
DTSTAMP:20240905T211003Z
SUMMARY:Special Board of Education Meeting
URL;VALUE=URI:https://www.district148.net/calendar/6524083/special-board-of
 -education-meeting
DTSTART:20240905T233000Z
DTEND:20240906T003000Z
END:VEVENT
END:VCALENDAR
