BEGIN:VCALENDAR
VERSION:2.0
PRODID:SchoolNow
CALSCALE:GREGORIAN
BEGIN:VEVENT
UID:ef1bfcc6-6620-11ef-a5ab-0a58a9feac02
DTSTAMP:20240924T203855Z
SUMMARY:Budget Hearing
URL;VALUE=URI:https://www.district148.net/calendar/6481558/budget-hearing
DTSTART:20240924T215000Z
DTEND:20240924T220000Z
END:VEVENT
END:VCALENDAR
