BEGIN:VCALENDAR
VERSION:2.0
PRODID:SchoolNow
CALSCALE:GREGORIAN
BEGIN:VEVENT
UID:e38b2a18-3d43-11ef-b3df-0a58a9feac02
DTSTAMP:20240708T160526Z
SUMMARY:Policy Meeting
URL;VALUE=URI:https://www.district148.net/calendar/6231903/policy-meeting-c
 lone-clone-clone
DTSTART:20250312T160000Z
DTEND:20250312T170000Z
END:VEVENT
END:VCALENDAR
