BEGIN:VCALENDAR
VERSION:2.0
PRODID:SchoolNow
CALSCALE:GREGORIAN
BEGIN:VEVENT
UID:dbf7f90c-3d43-11ef-ac17-0a58a9feac02
DTSTAMP:20240708T160513Z
SUMMARY:Policy Meeting
URL;VALUE=URI:https://www.district148.net/calendar/6231901/policy-meeting-c
 lone-clone
DTSTART:20241113T170000Z
DTEND:20241113T180000Z
END:VEVENT
END:VCALENDAR
