BEGIN:VCALENDAR
VERSION:2.0
PRODID:SchoolNow
CALSCALE:GREGORIAN
BEGIN:VEVENT
UID:9af518cc-3d43-11ef-aa4b-0a58a9feac02
DTSTAMP:20250312T220444Z
SUMMARY:Parent Advisory Meeting
LOCATION:Washington
URL;VALUE=URI:https://www.district148.net/calendar/6231900/parent-advisory-
 meeting-clone-clone-clone
DTSTART:20250312T220000Z
DTEND:20250312T230000Z
END:VEVENT
END:VCALENDAR
