BEGIN:VCALENDAR
VERSION:2.0
PRODID:SchoolNow
CALSCALE:GREGORIAN
BEGIN:VEVENT
UID:8d329ec6-3d43-11ef-a24e-029a054398c1
DTSTAMP:20241113T224846Z
SUMMARY:Parent Advisory Meeting
LOCATION:Roosevelt
URL;VALUE=URI:https://www.district148.net/calendar/6231899/parent-advisory-
 meeting-clone-clone
DTSTART:20241113T230000Z
DTEND:20241114T000000Z
END:VEVENT
END:VCALENDAR
