BEGIN:VCALENDAR
VERSION:2.0
PRODID:SchoolNow
CALSCALE:GREGORIAN
BEGIN:VEVENT
UID:69762f66-3d43-11ef-95fe-0affea4aed0f
DTSTAMP:20240708T160201Z
SUMMARY:Ethics Meeting
URL;VALUE=URI:https://www.district148.net/calendar/6231898/ethics-meeting-c
 lone-clone-clone
DTSTART:20250312T170000Z
DTEND:20250312T180000Z
END:VEVENT
END:VCALENDAR
