BEGIN:VCALENDAR
VERSION:2.0
PRODID:SchoolNow
CALSCALE:GREGORIAN
BEGIN:VEVENT
UID:5f57d264-3d43-11ef-9348-0affef4b3715
DTSTAMP:20240708T160144Z
SUMMARY:Ethics Meeting
URL;VALUE=URI:https://www.district148.net/calendar/6231897/ethics-meeting-c
 lone-clone
DTSTART:20241113T180000Z
DTEND:20241113T190000Z
END:VEVENT
END:VCALENDAR
