BEGIN:VCALENDAR
VERSION:2.0
PRODID:SchoolNow
CALSCALE:GREGORIAN
BEGIN:VEVENT
UID:db2c675c-3d42-11ef-8db7-0a58a9feac02
DTSTAMP:20240708T160655Z
SUMMARY:District Leadership Team Meeting
URL;VALUE=URI:https://www.district148.net/calendar/6231896/district-leaders
 hip-team-meeting-clone-clone-clone
DTSTART:20250312T150000Z
DTEND:20250312T160000Z
END:VEVENT
END:VCALENDAR
