BEGIN:VCALENDAR
VERSION:2.0
PRODID:SchoolNow
CALSCALE:GREGORIAN
BEGIN:VEVENT
UID:c7a09866-3d42-11ef-9213-0a58a9feac02
DTSTAMP:20240708T160644Z
SUMMARY:District Leadership Team Meeting
URL;VALUE=URI:https://www.district148.net/calendar/6231895/district-leaders
 hip-team-meeting-clone-clone
DTSTART:20241113T160000Z
DTEND:20241113T170000Z
END:VEVENT
END:VCALENDAR
