BEGIN:VCALENDAR
VERSION:2.0
PRODID:SchoolNow
CALSCALE:GREGORIAN
BEGIN:VEVENT
UID:3de1afc0-3d42-11ef-923b-0a58a9feac02
DTSTAMP:20250624T230206Z
SUMMARY:Buildings & Grounds/Finance Meeting
URL;VALUE=URI:https://www.district148.net/calendar/6231894/buildings-ground
 s-finance-meeting-clone-clone-clone-clone-clone-clone-clone-clone-clone-cl
 one
DTSTART:20250624T230000Z
DTEND:20250625T000000Z
END:VEVENT
END:VCALENDAR
