BEGIN:VCALENDAR
VERSION:2.0
PRODID:SchoolNow
CALSCALE:GREGORIAN
BEGIN:VEVENT
UID:3642dd70-3d42-11ef-a3d7-029a054398c1
DTSTAMP:20250527T202716Z
SUMMARY:Buildings & Grounds/Finance Meeting
URL;VALUE=URI:https://www.district148.net/calendar/6231893/buildings-ground
 s-finance-meeting-clone-clone-clone-clone-clone-clone-clone-clone-clone
DTSTART:20250527T230000Z
DTEND:20250528T000000Z
END:VEVENT
END:VCALENDAR
