BEGIN:VCALENDAR
VERSION:2.0
PRODID:SchoolNow
CALSCALE:GREGORIAN
BEGIN:VEVENT
UID:26ecaea0-3d42-11ef-a770-0a58a9feac02
DTSTAMP:20240708T155300Z
SUMMARY:Buildings & Grounds/Finance Meeting
URL;VALUE=URI:https://www.district148.net/calendar/6231891/buildings-ground
 s-finance-meeting-clone-clone-clone-clone-clone-clone-clone
DTSTART:20250312T170000Z
DTEND:20250312T180000Z
END:VEVENT
END:VCALENDAR
