BEGIN:VCALENDAR
VERSION:2.0
PRODID:SchoolNow
CALSCALE:GREGORIAN
BEGIN:VEVENT
UID:1d848dba-3d42-11ef-9ed5-02de16e5324b
DTSTAMP:20250212T180119Z
SUMMARY:Buildings & Grounds/Finance Meeting
URL;VALUE=URI:https://www.district148.net/calendar/6231890/buildings-ground
 s-finance-meeting-clone-clone-clone-clone-clone-clone
DTSTART:20250212T180000Z
DTEND:20250212T190000Z
END:VEVENT
END:VCALENDAR
