BEGIN:VCALENDAR
VERSION:2.0
PRODID:SchoolNow
CALSCALE:GREGORIAN
BEGIN:VEVENT
UID:0f78adaa-3d42-11ef-9b0b-0afff004008f
DTSTAMP:20241211T174748Z
SUMMARY:Buildings & Grounds/Finance Meeting
URL;VALUE=URI:https://www.district148.net/calendar/6231888/buildings-ground
 s-finance-meeting-clone-clone-clone-clone
DTSTART:20241211T180000Z
DTEND:20241211T190000Z
END:VEVENT
END:VCALENDAR
