BEGIN:VCALENDAR
VERSION:2.0
PRODID:SchoolNow
CALSCALE:GREGORIAN
BEGIN:VEVENT
UID:05a40acc-3d42-11ef-9f85-0e3f006457b7
DTSTAMP:20241113T180423Z
SUMMARY:Buildings & Grounds/Finance Meeting
URL;VALUE=URI:https://www.district148.net/calendar/6231887/buildings-ground
 s-finance-meeting-clone-clone-clone
DTSTART:20241113T180000Z
DTEND:20241113T190000Z
END:VEVENT
END:VCALENDAR
