BEGIN:VCALENDAR
VERSION:2.0
PRODID:SchoolNow
CALSCALE:GREGORIAN
BEGIN:VEVENT
UID:fd097992-3d41-11ef-940c-0a58a9feac02
DTSTAMP:20241009T165500Z
SUMMARY:Buildings & Grounds/Finance Meeting
URL;VALUE=URI:https://www.district148.net/calendar/6231886/buildings-ground
 s-finance-meeting-clone-clone
DTSTART:20241009T170000Z
DTEND:20241009T180000Z
END:VEVENT
END:VCALENDAR
