BEGIN:VCALENDAR
VERSION:2.0
PRODID:SchoolNow
CALSCALE:GREGORIAN
BEGIN:VEVENT
UID:f2c5fcbc-3d41-11ef-aabd-0a58a9feac02
DTSTAMP:20240918T165946Z
SUMMARY:Buildings & Grounds/Finance Meeting
URL;VALUE=URI:https://www.district148.net/calendar/6231885/buildings-ground
 s-finance-meeting-clone
DTSTART:20240918T170000Z
DTEND:20240918T180000Z
END:VEVENT
END:VCALENDAR
