BEGIN:VCALENDAR
VERSION:2.0
PRODID:SchoolNow
CALSCALE:GREGORIAN
BEGIN:VEVENT
UID:7e9356c8-3d41-11ef-a088-02de16e5324b
DTSTAMP:20240708T154817Z
SUMMARY:Buildings & Grounds/Finance Meeting
URL;VALUE=URI:https://www.district148.net/calendar/6231884/buildings-ground
 s-finance-meeting
DTSTART:20240814T170000Z
DTEND:20240814T180000Z
END:VEVENT
END:VCALENDAR
