BEGIN:VCALENDAR
VERSION:2.0
PRODID:SchoolNow
CALSCALE:GREGORIAN
BEGIN:VEVENT
UID:c7adcb12-3d2e-11ef-b403-0a58a9feac02
DTSTAMP:20250624T230634Z
SUMMARY:Board of Education Meeting
URL;VALUE=URI:https://www.district148.net/calendar/6231517/board-of-educati
 on-meeting-clone-clone-clone-clone-clone-clone-clone-clone-clone-clone
DTSTART:20250625T000000Z
DTEND:20250625T010000Z
END:VEVENT
END:VCALENDAR
