BEGIN:VCALENDAR
VERSION:2.0
PRODID:SchoolNow
CALSCALE:GREGORIAN
BEGIN:VEVENT
UID:c056542e-3d2e-11ef-9dbb-0a58a9feac02
DTSTAMP:20250527T202759Z
SUMMARY:Board of Education Meeting
URL;VALUE=URI:https://www.district148.net/calendar/6231516/board-of-educati
 on-meeting-clone-clone-clone-clone-clone-clone-clone-clone-clone
DTSTART:20250528T000000Z
DTEND:20250528T010000Z
END:VEVENT
END:VCALENDAR
