BEGIN:VCALENDAR
VERSION:2.0
PRODID:SchoolNow
CALSCALE:GREGORIAN
BEGIN:VEVENT
UID:b7f6714c-3d2e-11ef-b075-0a58a9feac02
DTSTAMP:20250415T220432Z
SUMMARY:Board of Education Meeting
URL;VALUE=URI:https://www.district148.net/calendar/6231515/board-of-educati
 on-meeting-clone-clone-clone-clone-clone-clone-clone-clone
DTSTART:20250415T220000Z
DTEND:20250415T230000Z
END:VEVENT
END:VCALENDAR
