BEGIN:VCALENDAR
VERSION:2.0
PRODID:SchoolNow
CALSCALE:GREGORIAN
BEGIN:VEVENT
UID:ae0f7318-3d2e-11ef-b5ef-0a58a9feac02
DTSTAMP:20250325T211452Z
SUMMARY:Board of Education Meeting
URL;VALUE=URI:https://www.district148.net/calendar/6231514/board-of-educati
 on-meeting-clone-clone-clone-clone-clone-clone-clone
DTSTART:20250325T220000Z
DTEND:20250325T230000Z
END:VEVENT
END:VCALENDAR
