BEGIN:VCALENDAR
VERSION:2.0
PRODID:SchoolNow
CALSCALE:GREGORIAN
BEGIN:VEVENT
UID:a6fef3c8-3d2e-11ef-862e-0afff004008f
DTSTAMP:20250225T221453Z
SUMMARY:Board of Education Meeting
URL;VALUE=URI:https://www.district148.net/calendar/6231513/board-of-educati
 on-meeting-clone-clone-clone-clone-clone-clone
DTSTART:20250225T230000Z
DTEND:20250226T000000Z
END:VEVENT
END:VCALENDAR
